BEGIN:VCALENDAR
VERSION:2.0
PRODID:-//jEvents 2.0 for Joomla//EN
CALSCALE:GREGORIAN
METHOD:PUBLISH
BEGIN:VTIMEZONE
TZID:Europe/Zurich
BEGIN:STANDARD
DTSTART:20241027T020000
RDATE:20250330T030000
TZOFFSETFROM:+0200
TZOFFSETTO:+0100
TZNAME:Europe/Zurich CET
END:STANDARD
BEGIN:STANDARD
DTSTART:20251026T020000
RDATE:20260329T030000
TZOFFSETFROM:+0200
TZOFFSETTO:+0100
TZNAME:Europe/Zurich CET
END:STANDARD
BEGIN:STANDARD
DTSTART:20261025T020000
RDATE:20270328T030000
TZOFFSETFROM:+0200
TZOFFSETTO:+0100
TZNAME:Europe/Zurich CET
END:STANDARD
BEGIN:STANDARD
DTSTART:20271031T020000
RDATE:20280326T030000
TZOFFSETFROM:+0200
TZOFFSETTO:+0100
TZNAME:Europe/Zurich CET
END:STANDARD
BEGIN:STANDARD
DTSTART:20281029T020000
RDATE:20290325T030000
TZOFFSETFROM:+0200
TZOFFSETTO:+0100
TZNAME:Europe/Zurich CET
END:STANDARD
BEGIN:STANDARD
DTSTART:20291028T020000
RDATE:20300331T030000
TZOFFSETFROM:+0200
TZOFFSETTO:+0100
TZNAME:Europe/Zurich CET
END:STANDARD
BEGIN:DAYLIGHT
DTSTART:20240813T190000
RDATE:20241027T020000
TZOFFSETFROM:+0100
TZOFFSETTO:+0200
TZNAME:Europe/Zurich CEST
END:DAYLIGHT
BEGIN:DAYLIGHT
DTSTART:20250330T030000
RDATE:20251026T020000
TZOFFSETFROM:+0100
TZOFFSETTO:+0200
TZNAME:Europe/Zurich CEST
END:DAYLIGHT
BEGIN:DAYLIGHT
DTSTART:20260329T030000
RDATE:20261025T020000
TZOFFSETFROM:+0100
TZOFFSETTO:+0200
TZNAME:Europe/Zurich CEST
END:DAYLIGHT
BEGIN:DAYLIGHT
DTSTART:20270328T030000
RDATE:20271031T020000
TZOFFSETFROM:+0100
TZOFFSETTO:+0200
TZNAME:Europe/Zurich CEST
END:DAYLIGHT
BEGIN:DAYLIGHT
DTSTART:20280326T030000
RDATE:20281029T020000
TZOFFSETFROM:+0100
TZOFFSETTO:+0200
TZNAME:Europe/Zurich CEST
END:DAYLIGHT
BEGIN:DAYLIGHT
DTSTART:20290325T030000
RDATE:20291028T020000
TZOFFSETFROM:+0100
TZOFFSETTO:+0200
TZNAME:Europe/Zurich CEST
END:DAYLIGHT
END:VTIMEZONE
BEGIN:VEVENT
UID:f3bfe76d-1d63-4985-a726-ea6190d940aa
CATEGORIES:öffentliche Anlässe
CREATED:20241204T153921
SUMMARY:Platzkonzert
LOCATION:altes Gemeindehaus
URL;VALUE=URI:https://mguttigen.ch/index.php/termine/kalender-abo/Eventdetail/9942/-/plat
 zkonzert?tmpl=component
DESCRIPTION:Converted by CSV-to-ICS Converter (Free Edition). \nGet your copy at https:
 //csv-to-ics.com. (https://csv-to-ics.com.)\n\nThis notification can be rem
 oved by purchasing a license.\n Dieser Event wurde importiert von: https://
 mguttigen.ch/index.php/termine/kalender-abo/Eventdetail/9942/-/platzkonzert
 ?tmpl=component (https://mguttigen.ch/index.php/termine/kalender-abo/Eventd
 etail/9942/-/platzkonzert?tmpl=component)
X-ALT-DESC;FMTTYPE=text/html:<p>Converted by CSV-to-ICS Converter (Free Edition). <br />Get your copy at
  <a href="https://csv-to-ics.com.">https://csv-to-ics.com.</a></p><p><br />
 This notification can be removed by purchasing a license.</p> <a href="http
 s://mguttigen.ch/index.php/termine/kalender-abo/Eventdetail/9942/-/platzkon
 zert?tmpl=component">Dieser Event wurde importiert von: https://mguttigen.c
 h/index.php/termine/kalender-abo/Eventdetail/9942/-/platzkonzert?tmpl=compo
 nent</a>DTSTAMP:20260420T045634
DTSTART;TZID=Europe/Zurich:20250814T190000
DTEND;TZID=Europe/Zurich:20250814T210000
SEQUENCE:0
TRANSP:OPAQUE
END:VEVENT
END:VCALENDAR