BEGIN:VCALENDAR
VERSION:2.0
PRODID:-//jEvents 2.0 for Joomla//EN
CALSCALE:GREGORIAN
METHOD:PUBLISH
BEGIN:VTIMEZONE
TZID:Europe/Zurich
BEGIN:STANDARD
DTSTART:20241027T020000
RDATE:20250330T030000
TZOFFSETFROM:+0200
TZOFFSETTO:+0100
TZNAME:Europe/Zurich CET
END:STANDARD
BEGIN:STANDARD
DTSTART:20251026T020000
RDATE:20260329T030000
TZOFFSETFROM:+0200
TZOFFSETTO:+0100
TZNAME:Europe/Zurich CET
END:STANDARD
BEGIN:STANDARD
DTSTART:20261025T020000
RDATE:20270328T030000
TZOFFSETFROM:+0200
TZOFFSETTO:+0100
TZNAME:Europe/Zurich CET
END:STANDARD
BEGIN:STANDARD
DTSTART:20271031T020000
RDATE:20280326T030000
TZOFFSETFROM:+0200
TZOFFSETTO:+0100
TZNAME:Europe/Zurich CET
END:STANDARD
BEGIN:STANDARD
DTSTART:20281029T020000
RDATE:20290325T030000
TZOFFSETFROM:+0200
TZOFFSETTO:+0100
TZNAME:Europe/Zurich CET
END:STANDARD
BEGIN:STANDARD
DTSTART:20291028T020000
RDATE:20300331T030000
TZOFFSETFROM:+0200
TZOFFSETTO:+0100
TZNAME:Europe/Zurich CET
END:STANDARD
BEGIN:DAYLIGHT
DTSTART:20240809T093000
RDATE:20241027T020000
TZOFFSETFROM:+0100
TZOFFSETTO:+0200
TZNAME:Europe/Zurich CEST
END:DAYLIGHT
BEGIN:DAYLIGHT
DTSTART:20250330T030000
RDATE:20251026T020000
TZOFFSETFROM:+0100
TZOFFSETTO:+0200
TZNAME:Europe/Zurich CEST
END:DAYLIGHT
BEGIN:DAYLIGHT
DTSTART:20260329T030000
RDATE:20261025T020000
TZOFFSETFROM:+0100
TZOFFSETTO:+0200
TZNAME:Europe/Zurich CEST
END:DAYLIGHT
BEGIN:DAYLIGHT
DTSTART:20270328T030000
RDATE:20271031T020000
TZOFFSETFROM:+0100
TZOFFSETTO:+0200
TZNAME:Europe/Zurich CEST
END:DAYLIGHT
BEGIN:DAYLIGHT
DTSTART:20280326T030000
RDATE:20281029T020000
TZOFFSETFROM:+0100
TZOFFSETTO:+0200
TZNAME:Europe/Zurich CEST
END:DAYLIGHT
BEGIN:DAYLIGHT
DTSTART:20290325T030000
RDATE:20291028T020000
TZOFFSETFROM:+0100
TZOFFSETTO:+0200
TZNAME:Europe/Zurich CEST
END:DAYLIGHT
END:VTIMEZONE
BEGIN:VEVENT
UID:58aa1163-b7f9-48a9-b4a7-8a4df4d02f50
CATEGORIES:öffentliche Anlässe
CREATED:20241204T153921
SUMMARY:Wartwaldpredigt
LOCATION:Wartwald
URL;VALUE=URI:https://mguttigen.ch/index.php/termine/kalender-abo/Eventdetail/9941/-/wart
 waldpredigt?tmpl=component
DESCRIPTION:Converted  by CSV-to-ICS Converter (Free Edition). Get your copy at  https:
 //csv-to-ics.com. (https://csv-to-ics.com.) \nThis notification can be remo
 ved by purchasing a license.     Dieser Event wurde importiert von: https:/
 /mguttigen.ch/index.php/termine/kalender-abo/Eventdetail/9941/-/wartwaldpre
 digt?tmpl=component
X-ALT-DESC;FMTTYPE=text/html:Converted  by CSV-to-ICS Converter (Free Edition). Get your copy at  <a hre
 f="https://csv-to-ics.com.">https://csv-to-ics.com.</a> <br/>This notificat
 ion can be removed by purchasing a license.     <a href="https://mguttigen.
 ch/index.php/termine/kalender-abo/Eventdetail/9941/-/wartwaldpredigt?tmpl=c
 omponent">Dieser Event wurde importiert von: https://mguttigen.ch/index.php
 /termine/kalender-abo/Eventdetail/9941/-/wartwaldpredigt?tmpl=component</a>DTSTAMP:20260420T052641
DTSTART;TZID=Europe/Zurich:20250810T093000
DTEND;TZID=Europe/Zurich:20250810T113000
SEQUENCE:0
TRANSP:OPAQUE
END:VEVENT
END:VCALENDAR