BEGIN:VCALENDAR
VERSION:2.0
PRODID:-//jEvents 2.0 for Joomla//EN
CALSCALE:GREGORIAN
METHOD:PUBLISH
BEGIN:VTIMEZONE
TZID:Europe/Zurich
BEGIN:STANDARD
DTSTART:20241121T200000
RDATE:20250330T030000
TZOFFSETFROM:+0200
TZOFFSETTO:+0100
TZNAME:Europe/Zurich CET
END:STANDARD
BEGIN:STANDARD
DTSTART:20251026T020000
RDATE:20260329T030000
TZOFFSETFROM:+0200
TZOFFSETTO:+0100
TZNAME:Europe/Zurich CET
END:STANDARD
BEGIN:STANDARD
DTSTART:20261025T020000
RDATE:20270328T030000
TZOFFSETFROM:+0200
TZOFFSETTO:+0100
TZNAME:Europe/Zurich CET
END:STANDARD
BEGIN:STANDARD
DTSTART:20271031T020000
RDATE:20280326T030000
TZOFFSETFROM:+0200
TZOFFSETTO:+0100
TZNAME:Europe/Zurich CET
END:STANDARD
BEGIN:STANDARD
DTSTART:20281029T020000
RDATE:20290325T030000
TZOFFSETFROM:+0200
TZOFFSETTO:+0100
TZNAME:Europe/Zurich CET
END:STANDARD
BEGIN:STANDARD
DTSTART:20291028T020000
RDATE:20300331T030000
TZOFFSETFROM:+0200
TZOFFSETTO:+0100
TZNAME:Europe/Zurich CET
END:STANDARD
BEGIN:DAYLIGHT
DTSTART:20250330T030000
RDATE:20251026T020000
TZOFFSETFROM:+0100
TZOFFSETTO:+0200
TZNAME:Europe/Zurich CEST
END:DAYLIGHT
BEGIN:DAYLIGHT
DTSTART:20260329T030000
RDATE:20261025T020000
TZOFFSETFROM:+0100
TZOFFSETTO:+0200
TZNAME:Europe/Zurich CEST
END:DAYLIGHT
BEGIN:DAYLIGHT
DTSTART:20270328T030000
RDATE:20271031T020000
TZOFFSETFROM:+0100
TZOFFSETTO:+0200
TZNAME:Europe/Zurich CEST
END:DAYLIGHT
BEGIN:DAYLIGHT
DTSTART:20280326T030000
RDATE:20281029T020000
TZOFFSETFROM:+0100
TZOFFSETTO:+0200
TZNAME:Europe/Zurich CEST
END:DAYLIGHT
BEGIN:DAYLIGHT
DTSTART:20290325T030000
RDATE:20291028T020000
TZOFFSETFROM:+0100
TZOFFSETTO:+0200
TZNAME:Europe/Zurich CEST
END:DAYLIGHT
END:VTIMEZONE
BEGIN:VEVENT
UID:b0350fd4-793e-4dec-8595-05f6e72efe7b
CATEGORIES:öffentliche Anlässe
CREATED:20250621T172157
SUMMARY:Unterhaltungskonzert + Theater
LOCATION:MZG
URL;VALUE=URI:https://mguttigen.ch/index.php/termine/kalender-abo/Eventdetail/10244/-/unt
 erhaltungskonzert-theater?tmpl=component
DESCRIPTION:<p>Converted by CSV-to-ICS Converter (Free Edition). <br />Get your copy at
  <a href="https://csv-to-ics.com.">https://csv-to-ics.com.</a></p><p><br />
 This notification can be removed by purchasing a license.</p> <a href="http
 s://mguttigen.ch/index.php/termine/kalender-abo/Eventdetail/10244/-/unterha
 ltungskonzert-theater?tmpl=component">Dieser Event wurde importiert von: ht
 tps://mguttigen.ch/index.php/termine/kalender-abo/Eventdetail/10244/-/unter
 haltungskonzert-theater?tmpl=component</a>DTSTAMP:20260420T003220
DTSTART;TZID=Europe/Zurich:20251122T200000
DTEND;TZID=Europe/Zurich:20251122T235900
SEQUENCE:0
TRANSP:OPAQUE
END:VEVENT
END:VCALENDAR