BEGIN:VCALENDAR
VERSION:2.0
PRODID:-//jEvents 2.0 for Joomla//EN
CALSCALE:GREGORIAN
METHOD:PUBLISH
BEGIN:VTIMEZONE
TZID:Europe/Zurich
BEGIN:STANDARD
DTSTART:20241120T200000
RDATE:20250330T030000
TZOFFSETFROM:+0200
TZOFFSETTO:+0100
TZNAME:Europe/Zurich CET
END:STANDARD
BEGIN:STANDARD
DTSTART:20251026T020000
RDATE:20260329T030000
TZOFFSETFROM:+0200
TZOFFSETTO:+0100
TZNAME:Europe/Zurich CET
END:STANDARD
BEGIN:STANDARD
DTSTART:20261025T020000
RDATE:20270328T030000
TZOFFSETFROM:+0200
TZOFFSETTO:+0100
TZNAME:Europe/Zurich CET
END:STANDARD
BEGIN:STANDARD
DTSTART:20271031T020000
RDATE:20280326T030000
TZOFFSETFROM:+0200
TZOFFSETTO:+0100
TZNAME:Europe/Zurich CET
END:STANDARD
BEGIN:STANDARD
DTSTART:20281029T020000
RDATE:20290325T030000
TZOFFSETFROM:+0200
TZOFFSETTO:+0100
TZNAME:Europe/Zurich CET
END:STANDARD
BEGIN:STANDARD
DTSTART:20291028T020000
RDATE:20300331T030000
TZOFFSETFROM:+0200
TZOFFSETTO:+0100
TZNAME:Europe/Zurich CET
END:STANDARD
BEGIN:DAYLIGHT
DTSTART:20250330T030000
RDATE:20251026T020000
TZOFFSETFROM:+0100
TZOFFSETTO:+0200
TZNAME:Europe/Zurich CEST
END:DAYLIGHT
BEGIN:DAYLIGHT
DTSTART:20260329T030000
RDATE:20261025T020000
TZOFFSETFROM:+0100
TZOFFSETTO:+0200
TZNAME:Europe/Zurich CEST
END:DAYLIGHT
BEGIN:DAYLIGHT
DTSTART:20270328T030000
RDATE:20271031T020000
TZOFFSETFROM:+0100
TZOFFSETTO:+0200
TZNAME:Europe/Zurich CEST
END:DAYLIGHT
BEGIN:DAYLIGHT
DTSTART:20280326T030000
RDATE:20281029T020000
TZOFFSETFROM:+0100
TZOFFSETTO:+0200
TZNAME:Europe/Zurich CEST
END:DAYLIGHT
BEGIN:DAYLIGHT
DTSTART:20290325T030000
RDATE:20291028T020000
TZOFFSETFROM:+0100
TZOFFSETTO:+0200
TZNAME:Europe/Zurich CEST
END:DAYLIGHT
END:VTIMEZONE
BEGIN:VEVENT
UID:4b74986d-c0eb-4108-95fa-2f620f2356d6
CATEGORIES:öffentliche Anlässe
CREATED:20250621T172157
SUMMARY:Unterhaltungskonzert + Theater
LOCATION:MZG
URL;VALUE=URI:https://mguttigen.ch/index.php/termine/kalender-abo/Eventdetail/10243/-/unt
 erhaltungskonzert-theater?tmpl=component
DESCRIPTION:<p>Converted by CSV-to-ICS Converter (Free Edition). Get your copy at <a hr
 ef="https://csv-to-ics.com.">https://csv-to-ics.com.</a></p><p><br />This n
 otification can be removed by purchasing a license.</p> <a href="https://mg
 uttigen.ch/index.php/termine/kalender-abo/Eventdetail/10243/-/unterhaltungs
 konzert-theater?tmpl=component">Dieser Event wurde importiert von: https://
 mguttigen.ch/index.php/termine/kalender-abo/Eventdetail/10243/-/unterhaltun
 gskonzert-theater?tmpl=component</a>DTSTAMP:20260420T003033
DTSTART;TZID=Europe/Zurich:20251121T200000
DTEND;TZID=Europe/Zurich:20251121T235900
SEQUENCE:0
TRANSP:OPAQUE
END:VEVENT
END:VCALENDAR