BEGIN:VCALENDAR
VERSION:2.0
PRODID:-//jEvents 2.0 for Joomla//EN
CALSCALE:GREGORIAN
METHOD:PUBLISH
BEGIN:VTIMEZONE
TZID:Europe/Zurich
BEGIN:STANDARD
DTSTART:20241119T200000
RDATE:20250330T030000
TZOFFSETFROM:+0200
TZOFFSETTO:+0100
TZNAME:Europe/Zurich CET
END:STANDARD
BEGIN:STANDARD
DTSTART:20251026T020000
RDATE:20260329T030000
TZOFFSETFROM:+0200
TZOFFSETTO:+0100
TZNAME:Europe/Zurich CET
END:STANDARD
BEGIN:STANDARD
DTSTART:20261025T020000
RDATE:20270328T030000
TZOFFSETFROM:+0200
TZOFFSETTO:+0100
TZNAME:Europe/Zurich CET
END:STANDARD
BEGIN:STANDARD
DTSTART:20271031T020000
RDATE:20280326T030000
TZOFFSETFROM:+0200
TZOFFSETTO:+0100
TZNAME:Europe/Zurich CET
END:STANDARD
BEGIN:STANDARD
DTSTART:20281029T020000
RDATE:20290325T030000
TZOFFSETFROM:+0200
TZOFFSETTO:+0100
TZNAME:Europe/Zurich CET
END:STANDARD
BEGIN:STANDARD
DTSTART:20291028T020000
RDATE:20300331T030000
TZOFFSETFROM:+0200
TZOFFSETTO:+0100
TZNAME:Europe/Zurich CET
END:STANDARD
BEGIN:DAYLIGHT
DTSTART:20250330T030000
RDATE:20251026T020000
TZOFFSETFROM:+0100
TZOFFSETTO:+0200
TZNAME:Europe/Zurich CEST
END:DAYLIGHT
BEGIN:DAYLIGHT
DTSTART:20260329T030000
RDATE:20261025T020000
TZOFFSETFROM:+0100
TZOFFSETTO:+0200
TZNAME:Europe/Zurich CEST
END:DAYLIGHT
BEGIN:DAYLIGHT
DTSTART:20270328T030000
RDATE:20271031T020000
TZOFFSETFROM:+0100
TZOFFSETTO:+0200
TZNAME:Europe/Zurich CEST
END:DAYLIGHT
BEGIN:DAYLIGHT
DTSTART:20280326T030000
RDATE:20281029T020000
TZOFFSETFROM:+0100
TZOFFSETTO:+0200
TZNAME:Europe/Zurich CEST
END:DAYLIGHT
BEGIN:DAYLIGHT
DTSTART:20290325T030000
RDATE:20291028T020000
TZOFFSETFROM:+0100
TZOFFSETTO:+0200
TZNAME:Europe/Zurich CEST
END:DAYLIGHT
END:VTIMEZONE
BEGIN:VEVENT
UID:f32221ce-7176-4bd4-a3ad-fe22995c6002
CATEGORIES:öffentliche Anlässe
CREATED:20250621T172157
SUMMARY:Hauptprobe Theater
LOCATION:MZG
URL;VALUE=URI:https://mguttigen.ch/index.php/termine/kalender-abo/Eventdetail/10242/-/hau
 ptprobe-theater?tmpl=component
DESCRIPTION:Converted by CSV-to-ICS Converter (Free Edition). Get your copy at https://
 csv-to-ics.com. (https://csv-to-ics.com.) This notification can be removed 
 by purchasing a license.\n Dieser Event wurde importiert von: https://mgutt
 igen.ch/index.php/termine/kalender-abo/Eventdetail/10242/-/hauptprobe-theat
 er?tmpl=component
X-ALT-DESC;FMTTYPE=text/html:<p>Converted by CSV-to-ICS Converter (Free Edition). Get your copy at <a hr
 ef="https://csv-to-ics.com.">https://csv-to-ics.com.</a> This notification 
 can be removed by purchasing a license.</p> <a href="https://mguttigen.ch/i
 ndex.php/termine/kalender-abo/Eventdetail/10242/-/hauptprobe-theater?tmpl=c
 omponent">Dieser Event wurde importiert von: https://mguttigen.ch/index.php
 /termine/kalender-abo/Eventdetail/10242/-/hauptprobe-theater?tmpl=component
 </a>DTSTAMP:20260420T003630
DTSTART;TZID=Europe/Zurich:20251120T200000
DTEND;TZID=Europe/Zurich:20251120T220000
SEQUENCE:0
TRANSP:OPAQUE
END:VEVENT
END:VCALENDAR