BEGIN:VCALENDAR
VERSION:2.0
PRODID:-//jEvents 2.0 for Joomla//EN
CALSCALE:GREGORIAN
METHOD:PUBLISH
BEGIN:VTIMEZONE
TZID:Europe/Zurich
BEGIN:STANDARD
DTSTART:20251026T020000
RDATE:20260329T030000
TZOFFSETFROM:+0200
TZOFFSETTO:+0100
TZNAME:Europe/Zurich CET
END:STANDARD
BEGIN:STANDARD
DTSTART:20261025T020000
RDATE:20270328T030000
TZOFFSETFROM:+0200
TZOFFSETTO:+0100
TZNAME:Europe/Zurich CET
END:STANDARD
BEGIN:STANDARD
DTSTART:20271031T020000
RDATE:20280326T030000
TZOFFSETFROM:+0200
TZOFFSETTO:+0100
TZNAME:Europe/Zurich CET
END:STANDARD
BEGIN:STANDARD
DTSTART:20281029T020000
RDATE:20290325T030000
TZOFFSETFROM:+0200
TZOFFSETTO:+0100
TZNAME:Europe/Zurich CET
END:STANDARD
BEGIN:STANDARD
DTSTART:20291028T020000
RDATE:20300331T030000
TZOFFSETFROM:+0200
TZOFFSETTO:+0100
TZNAME:Europe/Zurich CET
END:STANDARD
BEGIN:DAYLIGHT
DTSTART:20250819T190000
RDATE:20251026T020000
TZOFFSETFROM:+0100
TZOFFSETTO:+0200
TZNAME:Europe/Zurich CEST
END:DAYLIGHT
BEGIN:DAYLIGHT
DTSTART:20260329T030000
RDATE:20261025T020000
TZOFFSETFROM:+0100
TZOFFSETTO:+0200
TZNAME:Europe/Zurich CEST
END:DAYLIGHT
BEGIN:DAYLIGHT
DTSTART:20270328T030000
RDATE:20271031T020000
TZOFFSETFROM:+0100
TZOFFSETTO:+0200
TZNAME:Europe/Zurich CEST
END:DAYLIGHT
BEGIN:DAYLIGHT
DTSTART:20280326T030000
RDATE:20281029T020000
TZOFFSETFROM:+0100
TZOFFSETTO:+0200
TZNAME:Europe/Zurich CEST
END:DAYLIGHT
BEGIN:DAYLIGHT
DTSTART:20290325T030000
RDATE:20291028T020000
TZOFFSETFROM:+0100
TZOFFSETTO:+0200
TZNAME:Europe/Zurich CEST
END:DAYLIGHT
END:VTIMEZONE
BEGIN:VEVENT
UID:caf7ee87-5f29-4ea5-890e-2077ead3dc22
CATEGORIES:öffentliche Anlässe
CREATED:20260124T095539
SUMMARY:Ersatzdatum Platzkonzert
LOCATION:Riedweg
URL;VALUE=URI:https://mguttigen.ch/index.php/termine/eigene-anlaesse/Eventdetail/10629/-/
 ersatzdatum-platzkonzert?tmpl=component
DESCRIPTION:\n\noder Probe Dieser Event wurde importiert von: https://mguttigen.ch/inde
 x.php/termine/eigene-anlaesse/Eventdetail/10629/-/ersatzdatum-platzkonzert?
 tmpl=component
X-ALT-DESC;FMTTYPE=text/html:<br/><br/>oder Probe <a href="https://mguttigen.ch/index.php/termine/eigene
 -anlaesse/Eventdetail/10629/-/ersatzdatum-platzkonzert?tmpl=component">Dies
 er Event wurde importiert von: https://mguttigen.ch/index.php/termine/eigen
 e-anlaesse/Eventdetail/10629/-/ersatzdatum-platzkonzert?tmpl=component</a>DTSTAMP:20260419T135106
DTSTART;TZID=Europe/Zurich:20260820T190000
DTEND;TZID=Europe/Zurich:20260820T210000
SEQUENCE:0
TRANSP:OPAQUE
END:VEVENT
END:VCALENDAR